BEGIN:VCALENDAR
VERSION:2.0
PRODID:-//Intand Corporation//Tandem//EN
METHOD:PUBLISH
BEGIN:VEVENT
DTSTAMP:20260422T002511Z
DTSTART:20161001T153000Z
DTEND:20161001T230000Z
TRANSP:TRANSPARENT
PRIORITY:0
SUMMARY:AVID Training
LOCATION:GPHS V-Tel Room
DESCRIPTION:Groups:\nGPHS Administration\n\nSchools:\nGrants Pass High Sch
 ool \n\nLocation:\nGPHS V-Tel Room\n\n
URL;VALUE=URI:https://grantspass.tandem.co/index.php?type=view&action=even
 t&id=42460
CREATED:20160920T173353Z
LAST-MODIFIED:20160920T173353Z
UID:event-42460-grantspasshigh@intand.com
END:VEVENT
END:VCALENDAR
