BEGIN:VCALENDAR
VERSION:2.0
PRODID:-//Intand Corporation//Tandem//EN
METHOD:PUBLISH
BEGIN:VEVENT
DTSTAMP:20260422T003236Z
DTSTART:20161010T233000Z
DTEND:20161011T013000Z
TRANSP:TRANSPARENT
PRIORITY:0
SUMMARY:7th/8th JV Volleyball - White
LOCATION:North Middle School
DESCRIPTION:Schools:\nNorth Middle School\n\nLocation:\nNorth Middle Schoo
 l\n\n
URL;VALUE=URI:https://grantspass.tandem.co/index.php?type=view&action=even
 t&id=42390
CREATED:20160919T224319Z
LAST-MODIFIED:20160919T224319Z
UID:event-42390-grantspasshigh@intand.com
END:VEVENT
END:VCALENDAR
