BEGIN:VCALENDAR
VERSION:2.0
PRODID:-//Intand Corporation//Tandem//EN
METHOD:PUBLISH
BEGIN:VEVENT
DTSTAMP:20260422T002455Z
DTSTART:20161005T233000Z
DTEND:20161006T013000Z
TRANSP:TRANSPARENT
PRIORITY:0
SUMMARY:7th/8th JV Volleyball - Blue
LOCATION:North Middle School
DESCRIPTION:Groups:\nNMS Volleyball Blue\n\nSchools:\nNorth Middle School\
 n\nLocation:\nNorth Middle School\n\n
URL;VALUE=URI:https://grantspass.tandem.co/index.php?type=view&action=even
 t&id=42387
CREATED:20160919T223205Z
LAST-MODIFIED:20160919T223205Z
UID:event-42387-grantspasshigh@intand.com
END:VEVENT
END:VCALENDAR
