BEGIN:VCALENDAR
VERSION:2.0
PRODID:-//Intand Corporation//Tandem//EN
METHOD:PUBLISH
BEGIN:VEVENT
DTSTAMP:20260422T013152Z
DTSTART:20161003T233000Z
DTEND:20161004T013000Z
TRANSP:TRANSPARENT
PRIORITY:0
SUMMARY:7th/8th Grade Volleyball
LOCATION:North Middle School
DESCRIPTION:Groups:\nNorth MS Volleyball Varsity\n\nSchools:\nNorth Middle
  School\n\nLocation:\nNorth Middle School\n\n
URL;VALUE=URI:https://grantspass.tandem.co/index.php?type=view&action=even
 t&id=42384
CREATED:20160919T222745Z
LAST-MODIFIED:20160919T222745Z
UID:event-42384-grantspasshigh@intand.com
END:VEVENT
END:VCALENDAR
