BEGIN:VCALENDAR
VERSION:2.0
PRODID:-//Intand Corporation//Tandem//EN
METHOD:PUBLISH
BEGIN:VEVENT
DTSTAMP:20260422T003225Z
DTSTART:20101203T020000Z
DTEND:20101203T030000Z
TRANSP:TRANSPARENT
PRIORITY:0
SUMMARY:GPVC Informational Meeting
LOCATION:GPHS Core Building - Room 132\, GPHS Core Building - Room 133
DESCRIPTION:Groups:\nGPVC-Volleyball\n\nSchools:\nGrants Pass High School 
 \n\nLocations:\nGPHS Core Building - Room 132\nGPHS Core Building - Room 1
 33\n\n
URL;VALUE=URI:https://grantspass.tandem.co/index.php?type=view&action=even
 t&id=4230
CREATED:20101105T221713Z
LAST-MODIFIED:20101105T221713Z
UID:event-4230-grantspasshigh@intand.com
END:VEVENT
END:VCALENDAR
