BEGIN:VCALENDAR
VERSION:2.0
PRODID:-//Intand Corporation//Tandem//EN
METHOD:PUBLISH
BEGIN:VEVENT
DTSTAMP:20260422T013204Z
DTSTART:20161027T003000Z
DTEND:20161027T023000Z
TRANSP:TRANSPARENT
PRIORITY:0
SUMMARY:GPYSC
LOCATION:GPHS Track Field
DESCRIPTION:Groups:\nGPYSC- soccer\n\nSchools:\nGrants Pass High School \n
 \nLocation:\nGPHS Track Field\n\n
URL;VALUE=URI:https://grantspass.tandem.co/index.php?type=view&action=even
 t&id=42065
CREATED:20160916T143205Z
LAST-MODIFIED:20161011T222628Z
UID:event-42065-grantspasshigh@intand.com
END:VEVENT
END:VCALENDAR
