BEGIN:VCALENDAR
VERSION:2.0
PRODID:-//Intand Corporation//Tandem//EN
METHOD:PUBLISH
BEGIN:VEVENT
DTSTAMP:20260422T003201Z
DTSTART:20161103T200000Z
DTEND:20161104T040000Z
TRANSP:TRANSPARENT
PRIORITY:0
SUMMARY:Highland Gym Closure
LOCATION:Highland Gym
DESCRIPTION:Groups:\nHighland Elementary School Faculty\nHighland Elementa
 ry School Parents\n\nSchools:\nHighland Elementary School\n\nLocation:\nHi
 ghland Gym\n\n
URL;VALUE=URI:https://grantspass.tandem.co/index.php?type=view&action=even
 t&id=42013
CREATED:20160915T133339Z
LAST-MODIFIED:20161201T212127Z
UID:event-42013-grantspasshigh@intand.com
END:VEVENT
END:VCALENDAR
