BEGIN:VCALENDAR
VERSION:2.0
PRODID:-//Intand Corporation//Tandem//EN
METHOD:PUBLISH
BEGIN:VEVENT
DTSTAMP:20260422T013723Z
DTSTART:20170119T020000Z
DTEND:20170119T043000Z
TRANSP:TRANSPARENT
PRIORITY:0
SUMMARY:Project Graduation Meetings
LOCATION:GPHS Core Building - Room 134
DESCRIPTION:Groups:\nProject Graduation\n\nSchools:\nGrants Pass High Scho
 ol \n\nLocation:\nGPHS Core Building - Room 134\n\n
URL;VALUE=URI:https://grantspass.tandem.co/index.php?type=view&action=even
 t&id=41970
CREATED:20160906T181352Z
LAST-MODIFIED:20170110T174129Z
UID:event-41970-grantspasshigh@intand.com
END:VEVENT
END:VCALENDAR
