BEGIN:VCALENDAR
VERSION:2.0
PRODID:-//Intand Corporation//Tandem//EN
METHOD:PUBLISH
BEGIN:VEVENT
DTSTAMP:20260422T003239Z
DTSTART:20161026T020000Z
DTEND:20161026T040000Z
TRANSP:TRANSPARENT
PRIORITY:0
SUMMARY:GPHS Club Officer Installation
LOCATION:GPHS PAC Choir room/Lecture Hall
DESCRIPTION:Groups:\nGPHS Student Body\n\nSchools:\nGrants Pass High Schoo
 l \n\nLocation:\nGPHS PAC Choir room/Lecture Hall\n\n
URL;VALUE=URI:https://grantspass.tandem.co/index.php?type=view&action=even
 t&id=41963
CREATED:20160913T181800Z
LAST-MODIFIED:20160913T181800Z
UID:event-41963-grantspasshigh@intand.com
END:VEVENT
END:VCALENDAR
