BEGIN:VCALENDAR
VERSION:2.0
PRODID:-//Intand Corporation//Tandem//EN
METHOD:PUBLISH
BEGIN:VEVENT
DTSTAMP:20260422T013133Z
DTSTART:20161028T000000Z
DTEND:20161028T020000Z
TRANSP:TRANSPARENT
PRIORITY:0
SUMMARY:GPYSC
LOCATION:Redwood Field #2
DESCRIPTION:Groups:\nGPYSC- soccer\n\nSchools:\nRedwood Elementary School\
 n\nLocation:\nRedwood Field #2\n\n
URL;VALUE=URI:https://grantspass.tandem.co/index.php?type=view&action=even
 t&id=41952
CREATED:20160912T203851Z
LAST-MODIFIED:20160912T203851Z
UID:event-41952-grantspasshigh@intand.com
END:VEVENT
END:VCALENDAR
