BEGIN:VCALENDAR
VERSION:2.0
PRODID:-//Intand Corporation//Tandem//EN
METHOD:PUBLISH
BEGIN:VEVENT
DTSTAMP:20260422T013204Z
DTSTART:20101207T003000Z
DTEND:20101207T030000Z
TRANSP:TRANSPARENT
PRIORITY:0
SUMMARY:NMS 7th & 8th Grade Varsity Basketball McLoughlin @ NMS
LOCATION:North Middle School
DESCRIPTION:Groups:\nNorth MS Basketball Boys Varsity Grade 7\nNorth MS Ba
 sketball Boys Varsity Grade 8\n\nSchools:\nNorth Middle School\n\nLocation
 :\nNorth Middle School\n\n
URL;VALUE=URI:https://grantspass.tandem.co/index.php?type=view&action=even
 t&id=4195
CREATED:20101104T190424Z
LAST-MODIFIED:20101104T190424Z
UID:event-4195-grantspasshigh@intand.com
END:VEVENT
END:VCALENDAR
