BEGIN:VCALENDAR
VERSION:2.0
PRODID:-//Intand Corporation//Tandem//EN
METHOD:PUBLISH
BEGIN:VEVENT
DTSTAMP:20260422T002434Z
DTSTART:20101105T003000Z
DTEND:20101105T023000Z
TRANSP:TRANSPARENT
PRIORITY:0
SUMMARY:GPHS Boys and Girls Varsity Soccer
LOCATION:GPHS Mel Ingram Football Field
DESCRIPTION:Groups:\nGPHS Soccer Girls Varsity\nGPHS Soccer Boys Varsity\n
 \nSchools:\nGrants Pass High School \n\nLocation:\nGPHS Mel Ingram Footbal
 l Field\n\n
URL;VALUE=URI:https://grantspass.tandem.co/index.php?type=view&action=even
 t&id=4146
CREATED:20101101T222959Z
LAST-MODIFIED:20101101T222959Z
UID:event-4146-grantspasshigh@intand.com
END:VEVENT
END:VCALENDAR
