BEGIN:VCALENDAR
VERSION:2.0
PRODID:-//Intand Corporation//Tandem//EN
METHOD:PUBLISH
BEGIN:VEVENT
DTSTAMP:20260422T002357Z
DTSTART:20161110T030000Z
DTEND:20161110T050000Z
TRANSP:TRANSPARENT
PRIORITY:0
SUMMARY:Powder Puff Practice
LOCATION:GPHS Track Field
DESCRIPTION:Groups:\nGPHS Senior Class\n\nSchools:\nGrants Pass High Schoo
 l \n\nLocation:\nGPHS Track Field\n\n
URL;VALUE=URI:https://grantspass.tandem.co/index.php?type=view&action=even
 t&id=41388
CREATED:20160906T141504Z
LAST-MODIFIED:20160906T141504Z
UID:event-41388-grantspasshigh@intand.com
END:VEVENT
END:VCALENDAR
