BEGIN:VCALENDAR
VERSION:2.0
PRODID:-//Intand Corporation//Tandem//EN
METHOD:PUBLISH
BEGIN:VEVENT
DTSTAMP:20260422T001555Z
DTSTART:20170304T150000Z
DTEND:20170305T030000Z
TRANSP:TRANSPARENT
PRIORITY:0
SUMMARY:National Qualifiers Congressional Debate
LOCATION:GPHS Commons\, GPHS Core Building - Room 203\, GPHS Core Building
  - Room 226\, GPHS Core Building - Room 227\, GPHS Core Building - Room 22
 8\, GPHS Core Building - Room 232\, GPHS Core Building - Room 233\, GPHS C
 ore Building - Room 235\
DESCRIPTION:Groups:\nGPHS Speech and Debate Team\n\nSchools:\nGrants Pass 
 High School \n\nLocations:\nGPHS Commons\nGPHS Core Building - Room 203\nG
 PHS Core Building - Room 226\nGPHS Core Building - Room 227\nGPHS Core Bui
 lding - Room 228\nGPHS Core Building - Room 232\nGPHS Core Building - Room
  233\nGPHS Core Building - Room 235\nGPHS Core Building - Room 236\nGPHS C
 ore Building - Room 131\nGPHS Core Building - Room 133\nGPHS Core Building
  - Room 108\nGPHS Core Building - Room 136\nGPHS Core Building - Room 106\
 nGPHS Core Building - Room 109\nGPHS Core Building - Room 127\nGPHS Core B
 uilding - Room 138\nGPHS Core Building - Room 113\nGPHS Core Building - Ro
 om 132\nGPHS Core Building - Room 134\nGPHS Core Building - Room 130\nGPHS
  Core Building - Room 112\nGPHS Core Building - Room 128\nGPHS Core Buildi
 ng - Room 206\nGPHS Core Building - Room 213\nGPHS Core Building - Room 13
 7\nGPHS Core Building - Room 212\nGPHS Core Building - Room 210\nGPHS Core
  Building - Room 237\nGPHS Core Building - Room 204\nGPHS Core Building - 
 Room 230\nGPHS Core Building - Room 211\nGPHS Core Building - Room 208\nGP
 HS Core Building - Room 207\nGPHS Core Building - Room 234\nGPHS Core Buil
 ding - Room 238\n\n
URL;VALUE=URI:https://grantspass.tandem.co/index.php?type=view&action=even
 t&id=41229
CREATED:20160902T153534Z
LAST-MODIFIED:20170223T233754Z
UID:event-41229-grantspasshigh@intand.com
END:VEVENT
END:VCALENDAR
