BEGIN:VCALENDAR
VERSION:2.0
PRODID:-//Intand Corporation//Tandem//EN
METHOD:PUBLISH
BEGIN:VEVENT
DTSTAMP:20260422T001635Z
DTSTART:20160928T230000Z
DTEND:20160929T003000Z
TRANSP:TRANSPARENT
PRIORITY:0
SUMMARY:GPYSC
LOCATION:Lincoln Field - Lower #1
DESCRIPTION:Groups:\nGPYSC- soccer\n\nSchools:\nLincoln Elementary School\
 n\nLocation:\nLincoln Field - Lower #1\n\n
URL;VALUE=URI:https://grantspass.tandem.co/index.php?type=view&action=even
 t&id=41194
CREATED:20160901T230529Z
LAST-MODIFIED:20160901T230529Z
UID:event-41194-grantspasshigh@intand.com
END:VEVENT
END:VCALENDAR
