BEGIN:VCALENDAR
VERSION:2.0
PRODID:-//Intand Corporation//Tandem//EN
METHOD:PUBLISH
BEGIN:VEVENT
DTSTAMP:20260422T013254Z
DTSTART:20160913T230000Z
DTEND:20160914T023000Z
TRANSP:TRANSPARENT
PRIORITY:0
SUMMARY:GPYSC
LOCATION:Riverside Field #1 (Soccer Field)
DESCRIPTION:Groups:\nGPYSC- soccer\n\nSchools:\nRiverside Elementary Schoo
 l\n\nLocation:\nRiverside Field #1 (Soccer Field)\n\n
URL;VALUE=URI:https://grantspass.tandem.co/index.php?type=view&action=even
 t&id=41152
CREATED:20160901T230404Z
LAST-MODIFIED:20160901T230404Z
UID:event-41152-grantspasshigh@intand.com
END:VEVENT
END:VCALENDAR
