BEGIN:VCALENDAR
VERSION:2.0
PRODID:-//Intand Corporation//Tandem//EN
METHOD:PUBLISH
BEGIN:VEVENT
DTSTAMP:20260422T001724Z
DTSTART:20161031T223000Z
DTEND:20161101T020000Z
TRANSP:TRANSPARENT
PRIORITY:0
SUMMARY:GPHS Marching Band
LOCATION:GPHS Track Field
DESCRIPTION:Groups:\nGPHS Marching Band\n\nSchools:\nGrants Pass High Scho
 ol \n\nLocation:\nGPHS Track Field\n\n
URL;VALUE=URI:https://grantspass.tandem.co/index.php?type=view&action=even
 t&id=40787
CREATED:20160825T203904Z
LAST-MODIFIED:20161026T181235Z
UID:event-40787-grantspasshigh@intand.com
END:VEVENT
END:VCALENDAR
