BEGIN:VCALENDAR
VERSION:2.0
PRODID:-//Intand Corporation//Tandem//EN
METHOD:PUBLISH
BEGIN:VEVENT
DTSTAMP:20260422T013257Z
DTSTART:20160921T001500Z
DTEND:20160921T014500Z
TRANSP:TRANSPARENT
PRIORITY:0
SUMMARY:JVII Volleyball @ Sheldon
LOCATION:Sheldon High School
DESCRIPTION:Groups:\nGPHS Volleyball JVII\n\nSchools:\nSheldon High School
 \nGrants Pass High School \n\nLocation:\nSheldon High School\n\n
URL;VALUE=URI:https://grantspass.tandem.co/index.php?type=view&action=even
 t&id=40531
CREATED:20160819T042107Z
LAST-MODIFIED:20160819T042107Z
UID:event-40531-grantspasshigh@intand.com
END:VEVENT
END:VCALENDAR
