BEGIN:VCALENDAR
VERSION:2.0
PRODID:-//Intand Corporation//Tandem//EN
METHOD:PUBLISH
BEGIN:VEVENT
DTSTAMP:20260422T013002Z
DTSTART:20160923T014500Z
DTEND:20160923T040000Z
TRANSP:TRANSPARENT
PRIORITY:0
SUMMARY:Varsity Volleyball w/South Medford @ GPHS
LOCATION:GPHS Main Gym
DESCRIPTION:Groups:\nGPHS Volleyball Varsity\n\nSchools:\nSouth Medford Hi
 gh School\nGrants Pass High School \n\nLocation:\nGPHS Main Gym\n\n
URL;VALUE=URI:https://grantspass.tandem.co/index.php?type=view&action=even
 t&id=40501
CREATED:20160819T035645Z
LAST-MODIFIED:20160819T035645Z
UID:event-40501-grantspasshigh@intand.com
END:VEVENT
END:VCALENDAR
