BEGIN:VCALENDAR
VERSION:2.0
PRODID:-//Intand Corporation//Tandem//EN
METHOD:PUBLISH
BEGIN:VEVENT
DTSTAMP:20260422T003315Z
DTSTART:20160909T014500Z
DTEND:20160909T040000Z
TRANSP:TRANSPARENT
PRIORITY:0
SUMMARY:Varsity Volleyball @ Roseburg
LOCATION:Roseburg High School
DESCRIPTION:Groups:\nGPHS Volleyball Varsity\n\nSchools:\nRoseburg High Sc
 hool\nGrants Pass High School \n\nLocation:\nRoseburg High School\n\n
URL;VALUE=URI:https://grantspass.tandem.co/index.php?type=view&action=even
 t&id=40496
CREATED:20160819T035644Z
LAST-MODIFIED:20160819T035644Z
UID:event-40496-grantspasshigh@intand.com
END:VEVENT
END:VCALENDAR
