BEGIN:VCALENDAR
VERSION:2.0
PRODID:-//Intand Corporation//Tandem//EN
METHOD:PUBLISH
BEGIN:VEVENT
DTSTAMP:20260422T001543Z
DTSTART:20161019T224500Z
DTEND:20161020T065959Z
TRANSP:TRANSPARENT
PRIORITY:0
SUMMARY:GPHS Cross Country Invitational @ County Fairgrounds\, Veneta
LOCATION:Country Fairgrounds Veneta
DESCRIPTION:Breakdown: TBD\n\nReturn: TBD\n\nGroups:\nGPHS Cross Country\n
 \nSchools:\nGrants Pass High School \n\nLocation:\nCountry Fairgrounds Ven
 eta\n\n
URL;VALUE=URI:https://grantspass.tandem.co/index.php?type=view&action=even
 t&id=40447
CREATED:20160816T191019Z
LAST-MODIFIED:20160816T191019Z
UID:event-40447-grantspasshigh@intand.com
END:VEVENT
END:VCALENDAR
