BEGIN:VCALENDAR
VERSION:2.0
PRODID:-//Intand Corporation//Tandem//EN
METHOD:PUBLISH
BEGIN:VEVENT
DTSTAMP:20260422T012953Z
DTSTART:20160921T230000Z
DTEND:20160922T065959Z
TRANSP:TRANSPARENT
PRIORITY:0
SUMMARY:GPHS Cross Country Invitational @ Stewart Park\, Roseburg
LOCATION:Stewart Park
DESCRIPTION:Breakdown: TBD\n\nReturn: TBD\n\nGroups:\nGPHS Cross Country\n
 \nSchools:\nGrants Pass High School \n\nLocation:\nStewart Park\n\n
URL;VALUE=URI:https://grantspass.tandem.co/index.php?type=view&action=even
 t&id=40443
CREATED:20160816T191019Z
LAST-MODIFIED:20160816T191019Z
UID:event-40443-grantspasshigh@intand.com
END:VEVENT
END:VCALENDAR
