BEGIN:VCALENDAR
VERSION:2.0
PRODID:-//Intand Corporation//Tandem//EN
METHOD:PUBLISH
BEGIN:VEVENT
DTSTAMP:20260422T003711Z
DTSTART:20160917T164500Z
DTEND:20160918T065959Z
TRANSP:TRANSPARENT
PRIORITY:0
SUMMARY:GPHS Cross Country Invitational @ Marshfield HS
LOCATION:Marshfield High School
DESCRIPTION:Breakdown: TBD\n\nReturn: TBD\n\nGroups:\nGPHS Cross Country\n
 \nSchools:\nGrants Pass High School \n\nLocation:\nMarshfield High School\
 n\n
URL;VALUE=URI:https://grantspass.tandem.co/index.php?type=view&action=even
 t&id=40442
CREATED:20160816T191019Z
LAST-MODIFIED:20160816T191019Z
UID:event-40442-grantspasshigh@intand.com
END:VEVENT
END:VCALENDAR
