BEGIN:VCALENDAR
VERSION:2.0
PRODID:-//Intand Corporation//Tandem//EN
METHOD:PUBLISH
BEGIN:VEVENT
DTSTAMP:20260422T012829Z
DTSTART:20160927T230000Z
DTEND:20160928T010000Z
TRANSP:TRANSPARENT
PRIORITY:0
SUMMARY:JV Girls Soccer @ North Medford
LOCATION:North Medford High School
DESCRIPTION:Groups:\nGPHS Soccer Girls JV\n\nSchools:\nNorth Medford High 
 School\nGrants Pass High School \n\nLocation:\nNorth Medford High School\n
 \n
URL;VALUE=URI:https://grantspass.tandem.co/index.php?type=view&action=even
 t&id=40433
CREATED:20160816T053421Z
LAST-MODIFIED:20160816T053421Z
UID:event-40433-grantspasshigh@intand.com
END:VEVENT
END:VCALENDAR
