BEGIN:VCALENDAR
VERSION:2.0
PRODID:-//Intand Corporation//Tandem//EN
METHOD:PUBLISH
BEGIN:VEVENT
DTSTAMP:20260422T024459Z
DTSTART:20160921T010000Z
DTEND:20160921T030000Z
TRANSP:TRANSPARENT
PRIORITY:0
SUMMARY:Varsity Girls Soccer w/Sheldon @ GPHS
LOCATION:GPHS Mel Ingram Football Field
DESCRIPTION:Groups:\nGPHS Soccer Girls Varsity\n\nSchools:\nSheldon High S
 chool\nGrants Pass High School \n\nLocation:\nGPHS Mel Ingram Football Fie
 ld\n\n
URL;VALUE=URI:https://grantspass.tandem.co/index.php?type=view&action=even
 t&id=40417
CREATED:20160816T052152Z
LAST-MODIFIED:20160816T052152Z
UID:event-40417-grantspasshigh@intand.com
END:VEVENT
END:VCALENDAR
