BEGIN:VCALENDAR
VERSION:2.0
PRODID:-//Intand Corporation//Tandem//EN
METHOD:PUBLISH
BEGIN:VEVENT
DTSTAMP:20260422T003236Z
DTSTART:20161004T230000Z
DTEND:20161005T010000Z
TRANSP:TRANSPARENT
PRIORITY:0
SUMMARY:JV Boys Soccer w/Roseburg @ GPHS
LOCATION:GPHS Mel Ingram Football Field
DESCRIPTION:Groups:\nGPHS Soccer Boys JV\n\nSchools:\nRoseburg High School
 \nGrants Pass High School \n\nLocation:\nGPHS Mel Ingram Football Field\n\
 n
URL;VALUE=URI:https://grantspass.tandem.co/index.php?type=view&action=even
 t&id=40406
CREATED:20160816T043331Z
LAST-MODIFIED:20160830T233101Z
UID:event-40406-grantspasshigh@intand.com
END:VEVENT
END:VCALENDAR
