BEGIN:VCALENDAR
VERSION:2.0
PRODID:-//Intand Corporation//Tandem//EN
METHOD:PUBLISH
BEGIN:VEVENT
DTSTAMP:20260422T012955Z
DTSTART:20160921T233000Z
DTEND:20160922T013000Z
TRANSP:TRANSPARENT
PRIORITY:0
SUMMARY:JV Boys Soccer @ Sheldon
LOCATION:Sheldon High School
DESCRIPTION:Groups:\nGPHS Soccer Boys JV\n\nSchools:\nSheldon High School\
 nGrants Pass High School \n\nLocation:\nSheldon High School\n\n
URL;VALUE=URI:https://grantspass.tandem.co/index.php?type=view&action=even
 t&id=40402
CREATED:20160816T043331Z
LAST-MODIFIED:20160816T043331Z
UID:event-40402-grantspasshigh@intand.com
END:VEVENT
END:VCALENDAR
