BEGIN:VCALENDAR
VERSION:2.0
PRODID:-//Intand Corporation//Tandem//EN
METHOD:PUBLISH
BEGIN:VEVENT
DTSTAMP:20260422T002516Z
DTSTART:20161028T000000Z
DTEND:20161028T020000Z
TRANSP:TRANSPARENT
PRIORITY:0
SUMMARY:JV Football w/Sheldon @ GPHS
LOCATION:GPHS Mel Ingram Football Field
DESCRIPTION:Groups:\nGPHS Football JV\n\nSchools:\nSheldon High School\nGr
 ants Pass High School \n\nLocation:\nGPHS Mel Ingram Football Field\n\n
URL;VALUE=URI:https://grantspass.tandem.co/index.php?type=view&action=even
 t&id=40246
CREATED:20160617T160322Z
LAST-MODIFIED:20160617T160322Z
UID:event-40246-grantspasshigh@intand.com
END:VEVENT
END:VCALENDAR
