BEGIN:VCALENDAR
VERSION:2.0
PRODID:-//Intand Corporation//Tandem//EN
METHOD:PUBLISH
BEGIN:VEVENT
DTSTAMP:20260422T013010Z
DTSTART:20160902T223000Z
DTEND:20160903T003000Z
TRANSP:TRANSPARENT
PRIORITY:0
SUMMARY:JV Football w/Century @ GPHS
LOCATION:GPHS Mel Ingram Football Field
DESCRIPTION:Groups:\nGPHS Football JV\n\nSchools:\nCentury High School\nGr
 ants Pass High School \n\nLocation:\nGPHS Mel Ingram Football Field\n\n
URL;VALUE=URI:https://grantspass.tandem.co/index.php?type=view&action=even
 t&id=40238
CREATED:20160617T160322Z
LAST-MODIFIED:20160617T160322Z
UID:event-40238-grantspasshigh@intand.com
END:VEVENT
END:VCALENDAR
