BEGIN:VCALENDAR
VERSION:2.0
PRODID:-//Intand Corporation//Tandem//EN
METHOD:PUBLISH
BEGIN:VEVENT
DTSTAMP:20260422T002449Z
DTSTART:20160902T000000Z
DTEND:20160902T020000Z
TRANSP:TRANSPARENT
PRIORITY:0
SUMMARY:Freshman Football w/Crater @ GPHS
LOCATION:GPHS Mel Ingram Football Field
DESCRIPTION:Groups:\nGPHS Football Freshmen\n\nSchools:\nCrater High Schoo
 l\nGrants Pass High School \n\nLocation:\nGPHS Mel Ingram Football Field\n
 \n
URL;VALUE=URI:https://grantspass.tandem.co/index.php?type=view&action=even
 t&id=40228
CREATED:20160617T160202Z
LAST-MODIFIED:20160617T160202Z
UID:event-40228-grantspasshigh@intand.com
END:VEVENT
END:VCALENDAR
