BEGIN:VCALENDAR
VERSION:2.0
PRODID:-//Intand Corporation//Tandem//EN
METHOD:PUBLISH
BEGIN:VEVENT
DTSTAMP:20260422T002433Z
DTSTART:20170314T020000Z
DTEND:20170314T033000Z
TRANSP:TRANSPARENT
PRIORITY:0
SUMMARY:Middle School Choirs
LOCATION:GPHS PAC Stage\, GPHS PAC Choir room/Lecture Hall\, GPHS PAC Dres
 sing Rooms\, GPHS PAC Orchestra Room\, GPHS PAC Lobby
DESCRIPTION:Groups:\nSMS Choir\nNorth MS Choir\n\nSchools:\nSouth Middle S
 chool\nNorth Middle School\nGrants Pass High School \n\nLocations:\nGPHS P
 AC Stage\nGPHS PAC Choir room/Lecture Hall\nGPHS PAC Dressing Rooms\nGPHS 
 PAC Orchestra Room\nGPHS PAC Lobby\n\n
URL;VALUE=URI:https://grantspass.tandem.co/index.php?type=view&action=even
 t&id=40141
CREATED:20160526T185254Z
LAST-MODIFIED:20160902T235313Z
UID:event-40141-grantspasshigh@intand.com
END:VEVENT
END:VCALENDAR
