BEGIN:VCALENDAR
VERSION:2.0
PRODID:-//Intand Corporation//Tandem//EN
METHOD:PUBLISH
BEGIN:VEVENT
DTSTAMP:20260422T003514Z
DTSTART:20161019T150000Z
DTEND:20161019T200000Z
TRANSP:TRANSPARENT
PRIORITY:0
SUMMARY:College/Career Fair
LOCATION:GPHS PAC Choir room/Lecture Hall
DESCRIPTION:Groups:\nGrants Pass High School Student Body\nGPHS Student Bo
 dy\n\nSchools:\nGrants Pass High School \n\nLocation:\nGPHS PAC Choir room
 /Lecture Hall\n\n
URL;VALUE=URI:https://grantspass.tandem.co/index.php?type=view&action=even
 t&id=40011
CREATED:20160526T153256Z
LAST-MODIFIED:20160526T153256Z
UID:event-40011-grantspasshigh@intand.com
END:VEVENT
END:VCALENDAR
