BEGIN:VCALENDAR
VERSION:2.0
PRODID:-//Intand Corporation//Tandem//EN
METHOD:PUBLISH
BEGIN:VEVENT
DTSTAMP:20260422T003157Z
DTSTART:20110205T160000Z
DTEND:20110205T180000Z
TRANSP:TRANSPARENT
PRIORITY:0
SUMMARY:[Cancelled] GPHS Boys Basketball Practice
LOCATION:GPHS Main Gym\, GPHS PE Gym
DESCRIPTION:Groups:\nGPHS Basketball Boys Freshman\nGPHS Basketball Boys J
 V\nGPHS Basketball Boys Varsity\n\nSchools:\nGrants Pass High School \n\nL
 ocations:\nGPHS Main Gym\nGPHS PE Gym\n\n
URL;VALUE=URI:https://grantspass.tandem.co/index.php?type=view&action=even
 t&id=3860
CREATED:20101026T174629Z
LAST-MODIFIED:20110131T183056Z
UID:event-3860-grantspasshigh@intand.com
END:VEVENT
END:VCALENDAR
