BEGIN:VCALENDAR
VERSION:2.0
PRODID:-//Intand Corporation//Tandem//EN
METHOD:PUBLISH
BEGIN:VEVENT
DTSTAMP:20260422T002515Z
DTSTART:20101115T233000Z
DTEND:20101116T011500Z
TRANSP:TRANSPARENT
PRIORITY:0
SUMMARY:GPHS V/JV/Fr Boys Basketball Practice
LOCATION:GPHS Main Gym\, GPHS PE Gym
DESCRIPTION:Groups:\nGPHS Basketball Boys JV\nGPHS Basketball Boys Varsity
 \nGPHS Basketball Boys Freshman\n\nSchools:\nGrants Pass High School \n\nL
 ocations:\nGPHS Main Gym\nGPHS PE Gym\n\n
URL;VALUE=URI:https://grantspass.tandem.co/index.php?type=view&action=even
 t&id=3855
CREATED:20101026T154611Z
LAST-MODIFIED:20101026T154611Z
UID:event-3855-grantspasshigh@intand.com
END:VEVENT
END:VCALENDAR
