BEGIN:VCALENDAR
VERSION:2.0
PRODID:-//Intand Corporation//Tandem//EN
METHOD:PUBLISH
BEGIN:VEVENT
DTSTAMP:20260422T001632Z
DTSTART:20110418T150000Z
DTEND:20110418T190000Z
TRANSP:TRANSPARENT
PRIORITY:0
SUMMARY:Academic Masters Competition @ RCC
LOCATION:Rogue Community College
DESCRIPTION:Groups:\nAcademic Masters\n\nSchools:\nGrants Pass High School
  \n\nLocation:\nRogue Community College\n\n
URL;VALUE=URI:https://grantspass.tandem.co/index.php?type=view&action=even
 t&id=3695
CREATED:20101015T210454Z
LAST-MODIFIED:20101015T211246Z
UID:event-3695-grantspasshigh@intand.com
END:VEVENT
END:VCALENDAR
