BEGIN:VCALENDAR
VERSION:2.0
PRODID:-//Intand Corporation//Tandem//EN
METHOD:PUBLISH
BEGIN:VEVENT
DTSTAMP:20260422T001618Z
DTSTART:20101216T000000Z
DTEND:20101216T020000Z
TRANSP:TRANSPARENT
PRIORITY:0
SUMMARY:SMS 7th Grade Boys Varsity Basketball w/ North MS
LOCATION:South Middle School\, North Middle School
DESCRIPTION:7th Grade Start Time 4:00\n\nGroups:\nSMS Basketball Boys 7th 
 Grade Varsity\n\nSchools:\nSouth Middle School\n\nLocations:\nSouth Middle
  School\nNorth Middle School\n\n
URL;VALUE=URI:https://grantspass.tandem.co/index.php?type=view&action=even
 t&id=3686
CREATED:20101014T213927Z
LAST-MODIFIED:20101020T181515Z
UID:event-3686-grantspasshigh@intand.com
END:VEVENT
END:VCALENDAR
