BEGIN:VCALENDAR
VERSION:2.0
PRODID:-//Intand Corporation//Tandem//EN
METHOD:PUBLISH
BEGIN:VEVENT
DTSTAMP:20260422T002513Z
DTSTART:20101111T003000Z
DTEND:20101111T023000Z
TRANSP:TRANSPARENT
PRIORITY:0
SUMMARY:SMS 7th and 8th Grade Boys Varsity Basketball @ Grace Christian
LOCATION:Grace Christian School
DESCRIPTION:8th Grade Start Time 4:30\n7th Grade Start Time 5:30\n\nGroups
 :\nSMS Basketball Boys 7th Grade Varsity\n\nSchools:\nSouth Middle School\
 n\nLocation:\nGrace Christian School\n\n
URL;VALUE=URI:https://grantspass.tandem.co/index.php?type=view&action=even
 t&id=3677
CREATED:20101014T211444Z
LAST-MODIFIED:20101014T211444Z
UID:event-3677-grantspasshigh@intand.com
END:VEVENT
END:VCALENDAR
