BEGIN:VCALENDAR
VERSION:2.0
PRODID:-//Intand Corporation//Tandem//EN
METHOD:PUBLISH
BEGIN:VEVENT
DTSTAMP:20260422T003202Z
DTSTART:20101202T023000Z
DTEND:20101202T033000Z
TRANSP:TRANSPARENT
PRIORITY:0
SUMMARY:Riverside Band/String/Choir Concert
LOCATION:Riverside Gym
DESCRIPTION:Students need to be here at 6:00 pm\n\nGroups:\nRiverside Elem
 entary School Grade 4\nRiverside Elementary School Grade 5\nRiverside Elem
 entary School Orchestra\n\nSchools:\nRiverside Elementary School\n\nLocati
 on:\nRiverside Gym\n\n
URL;VALUE=URI:https://grantspass.tandem.co/index.php?type=view&action=even
 t&id=3626
CREATED:20101013T210121Z
LAST-MODIFIED:20101013T210121Z
UID:event-3626-grantspasshigh@intand.com
END:VEVENT
END:VCALENDAR
