BEGIN:VCALENDAR
VERSION:2.0
PRODID:-//Intand Corporation//Tandem//EN
METHOD:PUBLISH
BEGIN:VEVENT
DTSTAMP:20260422T013147Z
DTSTART:20160911T150000Z
DTEND:20160911T200000Z
TRANSP:TRANSPARENT
PRIORITY:0
SUMMARY:Class of 56 Reunion Breakfast
LOCATION:GPHS Commons
DESCRIPTION:Groups:\nClass of '56\n\nSchools:\nGrants Pass High School \n\
 nLocation:\nGPHS Commons\n\nWayne Morrow 541-479-5709\n\n
URL;VALUE=URI:https://grantspass.tandem.co/index.php?type=view&action=even
 t&id=36081
CREATED:20151008T154224Z
LAST-MODIFIED:20151008T154224Z
UID:event-36081-grantspasshigh@intand.com
END:VEVENT
END:VCALENDAR
