BEGIN:VCALENDAR
VERSION:2.0
PRODID:-//Intand Corporation//Tandem//EN
METHOD:PUBLISH
BEGIN:VEVENT
DTSTAMP:20260422T001630Z
DTSTART;VALUE=DATE:20100925
DTEND;VALUE=DATE:20100926
TRANSP:TRANSPARENT
PRIORITY:0
SUMMARY:GPHS Varsity Volleyball Tournament
LOCATION:North Medford High School
DESCRIPTION:Setup: TBD\nBreakdown: TBD\n\nDepart: TBD\nReturn: TBD\n\nGrou
 ps:\nGPHS Volleyball Varsity\n\nSchools:\nGrants Pass High School \n\nLoca
 tion:\nNorth Medford High School\n\n
URL;VALUE=URI:https://grantspass.tandem.co/index.php?type=view&action=even
 t&id=358
CREATED:20100730T234523Z
LAST-MODIFIED:20100730T234523Z
UID:event-358-grantspasshigh@intand.com
END:VEVENT
END:VCALENDAR
