BEGIN:VCALENDAR
VERSION:2.0
PRODID:-//Intand Corporation//Tandem//EN
METHOD:PUBLISH
BEGIN:VEVENT
DTSTAMP:20260422T024900Z
DTSTART:20101025T230000Z
DTEND:20101026T010000Z
TRANSP:TRANSPARENT
PRIORITY:0
SUMMARY:SMS 8th Grade Boys JV Football @ North MS
LOCATION:North Middle School
DESCRIPTION:Start Time 4:00\n\nGroups:\nSMS Football 7th Grade Silver\n\nS
 chools:\nSouth Middle School\n\nLocation:\nNorth Middle School\n\n
URL;VALUE=URI:https://grantspass.tandem.co/index.php?type=view&action=even
 t&id=3540
CREATED:20101011T171903Z
LAST-MODIFIED:20101011T171903Z
UID:event-3540-grantspasshigh@intand.com
END:VEVENT
END:VCALENDAR
