BEGIN:VCALENDAR
VERSION:2.0
PRODID:-//Intand Corporation//Tandem//EN
METHOD:PUBLISH
BEGIN:VEVENT
DTSTAMP:20260422T003238Z
DTSTART:20150604T020000Z
DTEND:20150604T040000Z
TRANSP:TRANSPARENT
PRIORITY:0
SUMMARY:Baseball Awards Night
LOCATION:GPHS Commons\, Grants Pass High School 
DESCRIPTION:Groups:\nGPHS Baseball Freshman\nGPHS Baseball JV\nGPHS Baseba
 ll Varsity\n\nSchools:\nGrants Pass High School \n\nLocations:\nGPHS Commo
 ns\nGrants Pass High School \n\n
URL;VALUE=URI:https://grantspass.tandem.co/index.php?type=view&action=even
 t&id=32833
CREATED:20150601T161533Z
LAST-MODIFIED:20150601T161533Z
UID:event-32833-grantspasshigh@intand.com
END:VEVENT
END:VCALENDAR
