BEGIN:VCALENDAR
VERSION:2.0
PRODID:-//Intand Corporation//Tandem//EN
METHOD:PUBLISH
BEGIN:VEVENT
DTSTAMP:20260422T001538Z
DTSTART:20100924T004500Z
DTEND:20100924T020000Z
TRANSP:TRANSPARENT
PRIORITY:0
SUMMARY:GPHS JV Volleyball w/Roseburg
LOCATION:GPHS Main Gym
DESCRIPTION:Groups:\nGPHS Volleyball JV\n\nSchools:\nGrants Pass High Scho
 ol \nRoseburg High School\n\nLocation:\nGPHS Main Gym\n\n
URL;VALUE=URI:https://grantspass.tandem.co/index.php?type=view&action=even
 t&id=327
CREATED:20100730T232229Z
LAST-MODIFIED:20100730T232229Z
UID:event-327-grantspasshigh@intand.com
END:VEVENT
END:VCALENDAR
