BEGIN:VCALENDAR
VERSION:2.0
PRODID:-//Intand Corporation//Tandem//EN
METHOD:PUBLISH
BEGIN:VEVENT
DTSTAMP:20260422T001522Z
DTSTART;VALUE=DATE:20101112
DTEND;VALUE=DATE:20101113
TRANSP:TRANSPARENT
PRIORITY:0
SUMMARY:Designated Day Reduction/No Classes-Gym Closure
LOCATION:Lincoln Elementary School
DESCRIPTION:Designated Day Reduction - No School\n\nGroups:\nLincoln Eleme
 ntary\n\nSchools:\nLincoln Elementary School\n\nLocation:\nLincoln Element
 ary School\n\n
URL;VALUE=URI:https://grantspass.tandem.co/index.php?type=view&action=even
 t&id=3159
CREATED:20101007T204825Z
LAST-MODIFIED:20101007T205009Z
UID:event-3159-grantspasshigh@intand.com
END:VEVENT
END:VCALENDAR
