BEGIN:VCALENDAR
VERSION:2.0
PRODID:-//Intand Corporation//Tandem//EN
METHOD:PUBLISH
BEGIN:VEVENT
DTSTAMP:20260422T003129Z
DTSTART:20101029T211500Z
DTEND:20101030T003000Z
TRANSP:TRANSPARENT
PRIORITY:0
SUMMARY:Little People's Day Care
LOCATION:Lincoln Gym\, Lincoln Elementary School\, Lincoln Cafeteria
DESCRIPTION:Gym and Cafeteria\n\nGroups:\nLittle Peoples Day Care\n\nSchoo
 ls:\nLincoln Elementary School\n\nLocations:\nLincoln Gym\nLincoln Element
 ary School\nLincoln Cafeteria\n\n
URL;VALUE=URI:https://grantspass.tandem.co/index.php?type=view&action=even
 t&id=3150
CREATED:20101007T204210Z
LAST-MODIFIED:20101007T210315Z
UID:event-3150-grantspasshigh@intand.com
END:VEVENT
END:VCALENDAR
