BEGIN:VCALENDAR
VERSION:2.0
PRODID:-//Intand Corporation//Tandem//EN
METHOD:PUBLISH
BEGIN:VEVENT
DTSTAMP:20260422T001742Z
DTSTART:20101018T233000Z
DTEND:20101019T013000Z
TRANSP:TRANSPARENT
PRIORITY:0
SUMMARY:SMS 7th and 8th Grade JV Girls Volleyball @ Talent
LOCATION:Talent Middle School
DESCRIPTION:7th Grade Start Time 4:30\n8th Grade Start Time 5:30\n\nGroups
 :\nSMS Volleyball 8th Grade Silver \n\nSchools:\nSouth Middle School\n\nLo
 cation:\nTalent Middle School\n\n
URL;VALUE=URI:https://grantspass.tandem.co/index.php?type=view&action=even
 t&id=3134
CREATED:20101007T202156Z
LAST-MODIFIED:20101007T202156Z
UID:event-3134-grantspasshigh@intand.com
END:VEVENT
END:VCALENDAR
