BEGIN:VCALENDAR
VERSION:2.0
PRODID:-//Intand Corporation//Tandem//EN
METHOD:PUBLISH
BEGIN:VEVENT
DTSTAMP:20260422T012946Z
DTSTART:20101021T010000Z
DTEND:20101021T030000Z
TRANSP:TRANSPARENT
PRIORITY:0
SUMMARY:Cub Scouts
LOCATION:Lincoln Elementary School\, Lincoln Cafeteria
DESCRIPTION:Cafeteria - Cub Scout Pack 23\n\nGroups:\nBoy Scouts\n\nSchool
 s:\nLincoln Elementary School\n\nLocations:\nLincoln Elementary School\nLi
 ncoln Cafeteria\n\n
URL;VALUE=URI:https://grantspass.tandem.co/index.php?type=view&action=even
 t&id=3090
CREATED:20101007T190035Z
LAST-MODIFIED:20101007T190542Z
UID:event-3090-grantspasshigh@intand.com
END:VEVENT
END:VCALENDAR
