BEGIN:VCALENDAR
VERSION:2.0
PRODID:-//Intand Corporation//Tandem//EN
METHOD:PUBLISH
BEGIN:VEVENT
DTSTAMP:20260422T013037Z
DTSTART:20110115T190000Z
DTEND:20110116T000000Z
TRANSP:TRANSPARENT
PRIORITY:0
SUMMARY:Elks Hoop Shoot @ North Middle School
LOCATION:North MS Main Gym\, North MS Small Gym
DESCRIPTION:Groups:\nElks\n\nSchools:\nNorth Middle School\n\nLocations:\n
 North MS Main Gym\nNorth MS Small Gym\n\nRob Marks- 479-7561\n\n
URL;VALUE=URI:https://grantspass.tandem.co/index.php?type=view&action=even
 t&id=3039
CREATED:20101006T221225Z
LAST-MODIFIED:20101206T224956Z
UID:event-3039-grantspasshigh@intand.com
END:VEVENT
END:VCALENDAR
