BEGIN:VCALENDAR
VERSION:2.0
PRODID:-//Intand Corporation//Tandem//EN
METHOD:PUBLISH
BEGIN:VEVENT
DTSTAMP:20260422T003434Z
DTSTART:20101027T010000Z
DTEND:20101027T030000Z
TRANSP:TRANSPARENT
PRIORITY:0
SUMMARY:South Middle School - National Honor Society
LOCATION:South MS Main Gym
DESCRIPTION:Groups:\nSMS Faculty\n\nSchools:\nSouth Middle School\n\nLocat
 ion:\nSouth MS Main Gym\n\n
URL;VALUE=URI:https://grantspass.tandem.co/index.php?type=view&action=even
 t&id=3020
CREATED:20101005T224011Z
LAST-MODIFIED:20101005T224011Z
UID:event-3020-grantspasshigh@intand.com
END:VEVENT
END:VCALENDAR
