BEGIN:VCALENDAR
VERSION:2.0
PRODID:-//Intand Corporation//Tandem//EN
METHOD:PUBLISH
BEGIN:VEVENT
DTSTAMP:20260422T012943Z
DTSTART:20101012T233000Z
DTEND:20101013T020000Z
TRANSP:TRANSPARENT
PRIORITY:0
SUMMARY:NMS 7th Grade V Football Game with McLoughlin
LOCATION:North Middle School
DESCRIPTION:Groups:\nNorth MS Football Varsity\n\nSchools:\nNorth Middle S
 chool\n\nLocation:\nNorth Middle School\n\n
URL;VALUE=URI:https://grantspass.tandem.co/index.php?type=view&action=even
 t&id=2985
CREATED:20101004T222702Z
LAST-MODIFIED:20101006T222224Z
UID:event-2985-grantspasshigh@intand.com
END:VEVENT
END:VCALENDAR
